BEGIN:VCALENDAR
VERSION:2.0
PRODID:-//Anglican Life - ECPv4.6.26.1//NONSGML v1.0//EN
CALSCALE:GREGORIAN
METHOD:PUBLISH
X-WR-CALNAME:Anglican Life
X-ORIGINAL-URL:http://anglicanlife.org.nz
X-WR-CALDESC:Events for Anglican Life
BEGIN:VEVENT
DTSTART;TZID=Pacific/Auckland:20181217T190000
DTEND;TZID=Pacific/Auckland:20181217T200000
DTSTAMP:20181221T202925
CREATED:20181217T001152Z
LAST-MODIFIED:20181217T001152Z
UID:5003-1545073200-1545076800@anglicanlife.org.nz
SUMMARY:Christchurch City Mission Christmas Carol Service
DESCRIPTION:The Christmas season can be an incredibly busy and stressful time for many.  Christchurch City Mission is hosting a carol service and you are invited to come along\, sing your favourite hymns and bring a gift (non-perishable food and standard household items and/ or a non-wrapped present for a child) and place it under the tree. \nMatthew Mark\, City Missioner and the Christchurch City Mission offers sincere thanks to all who are contributing to this service\, especially the staff\, Dean and Chapter\, of the Christchurch Transitional Cathedral. \nThose who will be involved in the service are: \n\nThe Rev’d Dr Peter Carrell\, Bishop-Elect of Christchurch\nThe Very Rev’d Lawrence Kimberley\, Dean of Christchurch Transitional Cathedral\nOrganist\, John Linker\nGlobal Voices\, Directed by Helen Charlton\nReaders\, Nalini Meyer\, Chair of the Christchurch City Mission Divisional Committee; Fiona Bell\, Youth and Adult – AOD Practitioner\, Christchurch City Mission and The Rev’d Sampson Knight\, Christchurch City Mission Divisional Committee member\nVerger\, Peter Dawe\n\n
URL:http://anglicanlife.org.nz/event/christchurch-city-mission-christmas-carol-service/
LOCATION:Transitional Cathedral\, 234 Hereford Street\, Christchurch\, 8011\, New Zealand
ATTACH;FMTTYPE=image/jpeg:/wp-content/uploads/2016/04/City-Mission-logo-2009-1.jpg
END:VEVENT
END:VCALENDAR